BEGIN:VCALENDAR
VERSION:2.0
PRODID:-//Bundaberg Orchid Society - ECPv4.3.0.1//NONSGML v1.0//EN
CALSCALE:GREGORIAN
METHOD:PUBLISH
X-WR-CALNAME:Bundaberg Orchid Society
X-ORIGINAL-URL:http://bundabergorchidsociety.com.au
X-WR-CALDESC:Events for Bundaberg Orchid Society
BEGIN:VEVENT
DTSTART;TZID=Australia/Brisbane:20180315T191500
DTEND;TZID=Australia/Brisbane:20180315T213000
DTSTAMP:20190301T104206
CREATED:20180105T010459Z
LAST-MODIFIED:20180126T232624Z
UID:2473-1521141300-1521149400@bundabergorchidsociety.com.au
SUMMARY:Bundaberg Orchid Society Monthly Meeting March 2018
DESCRIPTION:Bundaberg Orchid Society Meeting\n\n \n\nThe society holds its meetings at 7.30pm on the third Thursday of the month (except December) at the Avenell Heights Hall in Thabeban Street\, Bundaberg. Members start to arrive about 7pm. Visitors and past members are always welcome. If you require further information on upcoming meetings or directions\, you can ring \n\nBob Shield on (07) 4155 0783 or  Ren Thompson on (07) 41521619 
URL:http://bundabergorchidsociety.com.au/event/bundaberg-orchid-society-monthly-meeting-5/
LOCATION:Avenell Heights\, Queensland\, Australia\, Qld\, 4670\, Australia
END:VEVENT
END:VCALENDAR