BEGIN:VCALENDAR
VERSION:2.0
PRODID:-//Bundaberg Orchid Society - ECPv4.3.0.1//NONSGML v1.0//EN
CALSCALE:GREGORIAN
METHOD:PUBLISH
X-WR-CALNAME:Bundaberg Orchid Society
X-ORIGINAL-URL:http://bundabergorchidsociety.com.au
X-WR-CALDESC:Events for Bundaberg Orchid Society
BEGIN:VEVENT
DTSTART;TZID=Australia/Brisbane:20180603T083000
DTEND;TZID=Australia/Brisbane:20180603T110000
DTSTAMP:20190301T102541
CREATED:20180126T235846Z
LAST-MODIFIED:20180126T235846Z
UID:2613-1528014600-1528023600@bundabergorchidsociety.com.au
SUMMARY:New and Interested Growers Meeting June 2018
DESCRIPTION:On the first Sunday of each month we conduct a New and Interested Growers meeting at various members residences.  Experienced growers provide cultural information and hon orchid growing. Members may bring plants for discussion and get advice on any problems they may have with plants. These mornings are informal  and members bring a plate and share morning tea.
URL:http://bundabergorchidsociety.com.au/event/new-and-interested-growers-meeting-june-2018/
END:VEVENT
END:VCALENDAR